BEGIN:VCALENDAR
VERSION:2.0
PRODID:-//Master Gardener Foundation of King County - ECPv6.15.20//NONSGML v1.0//EN
CALSCALE:GREGORIAN
METHOD:PUBLISH
X-WR-CALNAME:Master Gardener Foundation of King County
X-ORIGINAL-URL:https://kingcounty.mastergardenerfoundation.org
X-WR-CALDESC:Events for Master Gardener Foundation of King County
REFRESH-INTERVAL;VALUE=DURATION:PT1H
X-Robots-Tag:noindex
X-PUBLISHED-TTL:PT1H
BEGIN:VTIMEZONE
TZID:America/Los_Angeles
BEGIN:DAYLIGHT
TZOFFSETFROM:-0800
TZOFFSETTO:-0700
TZNAME:PDT
DTSTART:20250309T100000
END:DAYLIGHT
BEGIN:STANDARD
TZOFFSETFROM:-0700
TZOFFSETTO:-0800
TZNAME:PST
DTSTART:20251102T090000
END:STANDARD
BEGIN:DAYLIGHT
TZOFFSETFROM:-0800
TZOFFSETTO:-0700
TZNAME:PDT
DTSTART:20260308T100000
END:DAYLIGHT
BEGIN:STANDARD
TZOFFSETFROM:-0700
TZOFFSETTO:-0800
TZNAME:PST
DTSTART:20261101T090000
END:STANDARD
BEGIN:DAYLIGHT
TZOFFSETFROM:-0800
TZOFFSETTO:-0700
TZNAME:PDT
DTSTART:20270314T100000
END:DAYLIGHT
BEGIN:STANDARD
TZOFFSETFROM:-0700
TZOFFSETTO:-0800
TZNAME:PST
DTSTART:20271107T090000
END:STANDARD
END:VTIMEZONE
BEGIN:VEVENT
DTSTART;TZID=America/Los_Angeles:20260425T100000
DTEND;TZID=America/Los_Angeles:20260425T113000
DTSTAMP:20260420T203319
CREATED:20260212T163327Z
LAST-MODIFIED:20260304T190845Z
UID:10000227-1777111200-1777116600@kingcounty.mastergardenerfoundation.org
SUMMARY:Fire Prevention for Your Yard
DESCRIPTION:Fire Prevention for Your Yard \npresented by Natalia Williams\, Project Coordinator\, Wildfire Mitigation with King Conservation District and Mike Lasecki\, Stewardship Forester & Wildfire Mitigation Specialist with King County Department of Natural Resources and Parks.\n \nCome join us for a presentation on wildfire mitigation in Western Washington. Topics discussed will include: fire ecology in Western Washington\, the wildland urban interface vs. wildfire risk\, what causes wildfire\, how wildfire threatens homes\, how to protect your home against wildfire and how to access home wildfire mitigation resources. A stroll around the parks ranger cabin to demonstrate home wildfire risk evaluation and actions to mitigate risk will be part of the event. \n  \nWhen: Saturday\, April 25 10:00am to 11:30am\nWhere: 15500 SE 16th Street\nBellevue\, WA 98007\nCost: Free \nRegister
URL:https://kingcounty.mastergardenerfoundation.org/event/fire-prevention-for-your-yard/
LOCATION:Bellevue Demonstration Garden\, 15500 SE 16th St.\, Bellevue\, WA\, 98007\, United States
CATEGORIES:BDG Onsite Workshops
END:VEVENT
END:VCALENDAR