BEGIN:VCALENDAR
VERSION:2.0
PRODID:-//Master Gardener Foundation of King County - ECPv6.15.20//NONSGML v1.0//EN
CALSCALE:GREGORIAN
METHOD:PUBLISH
X-WR-CALNAME:Master Gardener Foundation of King County
X-ORIGINAL-URL:https://kingcounty.mastergardenerfoundation.org
X-WR-CALDESC:Events for Master Gardener Foundation of King County
REFRESH-INTERVAL;VALUE=DURATION:PT1H
X-Robots-Tag:noindex
X-PUBLISHED-TTL:PT1H
BEGIN:VTIMEZONE
TZID:America/Los_Angeles
BEGIN:DAYLIGHT
TZOFFSETFROM:-0800
TZOFFSETTO:-0700
TZNAME:PDT
DTSTART:20250309T100000
END:DAYLIGHT
BEGIN:STANDARD
TZOFFSETFROM:-0700
TZOFFSETTO:-0800
TZNAME:PST
DTSTART:20251102T090000
END:STANDARD
BEGIN:DAYLIGHT
TZOFFSETFROM:-0800
TZOFFSETTO:-0700
TZNAME:PDT
DTSTART:20260308T100000
END:DAYLIGHT
BEGIN:STANDARD
TZOFFSETFROM:-0700
TZOFFSETTO:-0800
TZNAME:PST
DTSTART:20261101T090000
END:STANDARD
BEGIN:DAYLIGHT
TZOFFSETFROM:-0800
TZOFFSETTO:-0700
TZNAME:PDT
DTSTART:20270314T100000
END:DAYLIGHT
BEGIN:STANDARD
TZOFFSETFROM:-0700
TZOFFSETTO:-0800
TZNAME:PST
DTSTART:20271107T090000
END:STANDARD
END:VTIMEZONE
BEGIN:VTIMEZONE
TZID:UTC
BEGIN:STANDARD
TZOFFSETFROM:+0000
TZOFFSETTO:+0000
TZNAME:UTC
DTSTART:20250101T000000
END:STANDARD
END:VTIMEZONE
BEGIN:VEVENT
DTSTART;TZID=America/Los_Angeles:20260207T093000
DTEND;TZID=America/Los_Angeles:20260207T103000
DTSTAMP:20260420T222910
CREATED:20251230T191749Z
LAST-MODIFIED:20251230T191749Z
UID:10000221-1770456600-1770460200@kingcounty.mastergardenerfoundation.org
SUMMARY:Grow Your Own Flowers and Vegetables – from Seed
DESCRIPTION:Speaker: Colleen Donahue\, Extension Master Gardener. \nPresentation: Have you ever thought about growing your own plants from seed but didn’t know where to start?  Create a beautiful & bountiful flower/vegetable garden using the information you will learn in this presentation.  Colleen grows hundreds of seedlings each spring. You will learn practical information about how to select seeds\, how to set up your growing area\, how to nurture tiny seedlings until they are ready for planting\, and how to get them off to a strong start after they are planted.  \nCost: $9.00 \nRegister
URL:https://kingcounty.mastergardenerfoundation.org/event/grow-your-own-flowers-and-vegetables-from-seed/
LOCATION:Online via Zoom Platform
CATEGORIES:BDG Workshops
END:VEVENT
BEGIN:VEVENT
DTSTART;TZID=UTC:20260212T190000
DTEND;TZID=UTC:20260212T203000
DTSTAMP:20260420T222910
CREATED:20230515T213931Z
LAST-MODIFIED:20231015T180456Z
UID:10000055-1770922800-1770928200@kingcounty.mastergardenerfoundation.org
SUMMARY:Board Meeting
DESCRIPTION:The Master Gardener Foundation of King County holds two regular meetings: recurring Board Meetings and an Annual Meeting. Board meetings are regularly scheduled from 7:00-8:30PM the second Thursday of the month\, generally via teleconference. Foundation members may attend any Board meeting as observers or by invitation. Contact Board President\, president@mgfkc.org\, if you would like to attend. Agendas and minutes of the Board meetings are found in the Foundation Board archives. \n\n\n\nSpecial meetings may be called at any time by the President or by request of the membership. Notice of special meetings will be sent to the membership via e-mail not less than 10 days prior to the date of the meeting. [MGFKC By-Laws 5.5\, January 2013; Article VII\, Meetings] \n\n\n\nThe Board of Directors shall hold regular meetings at such times and places as the Board decides. Board meeting times and locations are regularly published in The Connection\, the Newsletter of the Master Gardeners of King County and the Master Gardener Foundation of King County. Recent issues may be found under Resources / Newsletters. \n\n\n\nNOTE: Most meetings are conducted via Zoom.  In person Board meetings are usually held in the Extension Master Gardener program office at the UW Center for Urban Horticulture\, 3501 NE 41st St.\, Seattle. During the summer months\, the Board may move its regularly scheduled meetings to various Master Gardener gardens in order to become familiar with these locations. Changes to these locations will be posted here as they become available.
URL:https://kingcounty.mastergardenerfoundation.org/event/board-meeting-22/2026-02-12/
LOCATION:Online via Zoom Platform
CATEGORIES:Board Meetings
END:VEVENT
BEGIN:VEVENT
DTSTART;TZID=America/Los_Angeles:20260221T093000
DTEND;TZID=America/Los_Angeles:20260221T103000
DTSTAMP:20260420T222910
CREATED:20251230T192559Z
LAST-MODIFIED:20251230T192559Z
UID:10000222-1771666200-1771669800@kingcounty.mastergardenerfoundation.org
SUMMARY:Vegetables A-Z
DESCRIPTION:Speaker: Joan Veach\, Extension Master Gardener. \nPresentation: From Asparagus to Zucchini\, vegetables are delicious\, nutritious\, and fun to grow. Surprisingly\, or maybe not so surprisingly\, each type of vegetable has its own peculiar preferences about soil\, light\, water\, and season.   Join Joan\, as she shares insight into growing a variety of vegetables in our Pacific Northwest climate. \nCost: $9.00 \nRegister
URL:https://kingcounty.mastergardenerfoundation.org/event/vegetables-a-z/
LOCATION:Online via Zoom Platform
CATEGORIES:BDG Workshops
END:VEVENT
END:VCALENDAR