BEGIN:VCALENDAR
VERSION:2.0
PRODID:-//Master Gardener Foundation of King County - ECPv6.15.20//NONSGML v1.0//EN
CALSCALE:GREGORIAN
METHOD:PUBLISH
X-ORIGINAL-URL:https://kingcounty.mastergardenerfoundation.org
X-WR-CALDESC:Events for Master Gardener Foundation of King County
REFRESH-INTERVAL;VALUE=DURATION:PT1H
X-Robots-Tag:noindex
X-PUBLISHED-TTL:PT1H
BEGIN:VTIMEZONE
TZID:America/Los_Angeles
BEGIN:DAYLIGHT
TZOFFSETFROM:-0800
TZOFFSETTO:-0700
TZNAME:PDT
DTSTART:20250309T100000
END:DAYLIGHT
BEGIN:STANDARD
TZOFFSETFROM:-0700
TZOFFSETTO:-0800
TZNAME:PST
DTSTART:20251102T090000
END:STANDARD
BEGIN:DAYLIGHT
TZOFFSETFROM:-0800
TZOFFSETTO:-0700
TZNAME:PDT
DTSTART:20260308T100000
END:DAYLIGHT
BEGIN:STANDARD
TZOFFSETFROM:-0700
TZOFFSETTO:-0800
TZNAME:PST
DTSTART:20261101T090000
END:STANDARD
BEGIN:DAYLIGHT
TZOFFSETFROM:-0800
TZOFFSETTO:-0700
TZNAME:PDT
DTSTART:20270314T100000
END:DAYLIGHT
BEGIN:STANDARD
TZOFFSETFROM:-0700
TZOFFSETTO:-0800
TZNAME:PST
DTSTART:20271107T090000
END:STANDARD
END:VTIMEZONE
BEGIN:VTIMEZONE
TZID:UTC
BEGIN:STANDARD
TZOFFSETFROM:+0000
TZOFFSETTO:+0000
TZNAME:UTC
DTSTART:20250101T000000
END:STANDARD
END:VTIMEZONE
BEGIN:VEVENT
DTSTART;TZID=America/Los_Angeles:20260307T093000
DTEND;TZID=America/Los_Angeles:20260307T103000
DTSTAMP:20260420T203903
CREATED:20251230T193315Z
LAST-MODIFIED:20260304T184818Z
UID:10000223-1772875800-1772879400@kingcounty.mastergardenerfoundation.org
SUMMARY:Go Native – Get To Know Your Native PNW Bulbs
DESCRIPTION:Speakers: Sean McManus\, Horticulturist and Allison McManus\, Science Teacher. \nPresentation: Bulbs are amazing perennial plants and are so unique to the gardening world. Native bulbs are even more interesting and can be considered a mystery\, but we want to tell you all about them. From the Puget Sound to the Cascade Mountains to the east side and beyond\, get to know 10 PNW native bulbs\, how to grow them\, and all their benefits to your garden \nCost: $9.00 \nRegister
URL:https://kingcounty.mastergardenerfoundation.org/event/go-native-get-to-know-your-native-pnw-bulbs/
LOCATION:Online via Zoom Platform
CATEGORIES:PNW Garden Savvy
END:VEVENT
BEGIN:VEVENT
DTSTART;TZID=UTC:20260312T190000
DTEND;TZID=UTC:20260312T203000
DTSTAMP:20260420T203903
CREATED:20230515T213931Z
LAST-MODIFIED:20231015T180456Z
UID:10000056-1773342000-1773347400@kingcounty.mastergardenerfoundation.org
SUMMARY:Board Meeting
DESCRIPTION:The Master Gardener Foundation of King County holds two regular meetings: recurring Board Meetings and an Annual Meeting. Board meetings are regularly scheduled from 7:00-8:30PM the second Thursday of the month\, generally via teleconference. Foundation members may attend any Board meeting as observers or by invitation. Contact Board President\, president@mgfkc.org\, if you would like to attend. Agendas and minutes of the Board meetings are found in the Foundation Board archives. \n\n\n\nSpecial meetings may be called at any time by the President or by request of the membership. Notice of special meetings will be sent to the membership via e-mail not less than 10 days prior to the date of the meeting. [MGFKC By-Laws 5.5\, January 2013; Article VII\, Meetings] \n\n\n\nThe Board of Directors shall hold regular meetings at such times and places as the Board decides. Board meeting times and locations are regularly published in The Connection\, the Newsletter of the Master Gardeners of King County and the Master Gardener Foundation of King County. Recent issues may be found under Resources / Newsletters. \n\n\n\nNOTE: Most meetings are conducted via Zoom.  In person Board meetings are usually held in the Extension Master Gardener program office at the UW Center for Urban Horticulture\, 3501 NE 41st St.\, Seattle. During the summer months\, the Board may move its regularly scheduled meetings to various Master Gardener gardens in order to become familiar with these locations. Changes to these locations will be posted here as they become available.
URL:https://kingcounty.mastergardenerfoundation.org/event/board-meeting-22/2026-03-12/
LOCATION:Online via Zoom Platform
CATEGORIES:Board Meetings
END:VEVENT
BEGIN:VEVENT
DTSTART;TZID=America/Los_Angeles:20260321T093000
DTEND;TZID=America/Los_Angeles:20260321T103000
DTSTAMP:20260420T203903
CREATED:20251230T193903Z
LAST-MODIFIED:20260304T191025Z
UID:10000224-1774085400-1774089000@kingcounty.mastergardenerfoundation.org
SUMMARY:Introduction to Pruning with Plant Amnesty
DESCRIPTION:Speaker: Kristin Jackson\, Executive Director of Plant Amnesty. \nPresentation: Pruning makes sense when you understand the science behind it. You will be introduced to the basics of tree biology and structure\, tree responses to the basic types of pruning cuts\, pruning standards and\, best management practice. \nCost: $9.00 \nRegister
URL:https://kingcounty.mastergardenerfoundation.org/event/introduction-to-pruning-with-plant-amnesty/
LOCATION:Online via Zoom Platform
CATEGORIES:PNW Garden Savvy
END:VEVENT
END:VCALENDAR